BEGIN:VCALENDAR
PRODID:-//eluceo/ical//2.0/EN
VERSION:2.0
CALSCALE:GREGORIAN
BEGIN:VEVENT
UID:099d84637a55af8d7eb92e44202313c0
DTSTAMP:20260425T144015Z
SUMMARY:Ice bathing and yoga on the Kaunertal Glacier
DESCRIPTION:Body & mind at an icy level!\nRediscover your mental strength i
 n the Kaunertal mountains!
URL:https://www.kaunertaler-gletscher.at/incert.html
DTSTART;VALUE=DATE:20260502
DTEND;VALUE=DATE:20260503
LOCATION:Kaunertaler Gletscher
END:VEVENT
END:VCALENDAR
