BEGIN:VCALENDAR
PRODID:-//eluceo/ical//2.0/EN
VERSION:2.0
CALSCALE:GREGORIAN
BEGIN:VEVENT
UID:eebd2dc79085887bd6fb37bc1bf75387
DTSTAMP:20260425T130944Z
SUMMARY:Eisbaden & Yoga am Kaunertaler Gletscher
DESCRIPTION:Körper & Geist auf eisigem Level! \nEntdecke Deine Mentale St
 ärke in der Kaunertaler Bergwelt neu!
URL:https://www.kaunertaler-gletscher.at/incert.html
DTSTART;VALUE=DATE:20260502
DTEND;VALUE=DATE:20260503
LOCATION:Kaunertaler Gletscher
END:VEVENT
END:VCALENDAR
